BEGIN:VCALENDAR
VERSION:2.0
PRODID:spatie/icalendar-generator
NAME:Artificial Intelligence and the Courts: Implications for Hawaiʻi Prac
 titioners
X-WR-CALNAME:Artificial Intelligence and the Courts: Implications for Hawai
 ʻi Practitioners
BEGIN:VTIMEZONE
TZID:Pacific/Honolulu
BEGIN:STANDARD
DTSTART:20250816T120000
TZOFFSETFROM:-1000
TZOFFSETTO:-1000
END:STANDARD
END:VTIMEZONE
BEGIN:VTIMEZONE
TZID:UTC
BEGIN:STANDARD
DTSTART:20250726T033537
TZOFFSETFROM:+0000
TZOFFSETTO:+0000
END:STANDARD
END:VTIMEZONE
BEGIN:VEVENT
UID:69e84209795ca
DTSTAMP:20260422T033537Z
SUMMARY:Artificial Intelligence and the Courts: Implications for Hawaiʻi P
 ractitioners
URL:https://hsba.org/catalog/events/11477406-artificial-intelligence-and-th
 e-courts-implications-for-hawaii-practitioners-2026-13-05
DTSTART;TZID=Pacific/Honolulu:20260513T120000
DTEND;TZID=Pacific/Honolulu:20260513T130000
END:VEVENT
END:VCALENDAR