BEGIN:VCALENDAR
VERSION:2.0
PRODID:spatie/icalendar-generator
NAME:Basics of Chapter 7 Bankruptcy Law for Debtors
X-WR-CALNAME:Basics of Chapter 7 Bankruptcy Law for Debtors
BEGIN:VTIMEZONE
TZID:Pacific/Honolulu
BEGIN:STANDARD
DTSTART:20250906T120000
TZOFFSETFROM:-1000
TZOFFSETTO:-1000
END:STANDARD
END:VTIMEZONE
BEGIN:VTIMEZONE
TZID:UTC
BEGIN:STANDARD
DTSTART:20250726T033420
TZOFFSETFROM:+0000
TZOFFSETTO:+0000
END:STANDARD
END:VTIMEZONE
BEGIN:VEVENT
UID:69e841bc658e2
DTSTAMP:20260422T033420Z
SUMMARY:Basics of Chapter 7 Bankruptcy Law for Debtors
URL:https://hsba.org/catalog/events/11474921-basics-of-chapter-7-bankruptcy
 -law-for-debtors-2026-03-06
DTSTART;TZID=Pacific/Honolulu:20260603T120000
DTEND;TZID=Pacific/Honolulu:20260603T140000
END:VEVENT
END:VCALENDAR